BEGIN:VCALENDAR
VERSION:2.0
PRODID:-//MrsTenishaCollins.com - ECPv6.15.20//NONSGML v1.0//EN
CALSCALE:GREGORIAN
METHOD:PUBLISH
X-WR-CALNAME:MrsTenishaCollins.com
X-ORIGINAL-URL:https://mrstenishacollins.com
X-WR-CALDESC:Events for MrsTenishaCollins.com
REFRESH-INTERVAL;VALUE=DURATION:PT1H
X-Robots-Tag:noindex
X-PUBLISHED-TTL:PT1H
BEGIN:VTIMEZONE
TZID:UTC
BEGIN:STANDARD
TZOFFSETFROM:+0000
TZOFFSETTO:+0000
TZNAME:UTC
DTSTART:20240101T000000
END:STANDARD
END:VTIMEZONE
BEGIN:VEVENT
DTSTART;TZID=UTC:20260321T130000
DTEND;TZID=UTC:20260321T133000
DTSTAMP:20260423T231823
CREATED:20240312T034957Z
LAST-MODIFIED:20260221T012109Z
UID:547-1774098000-1774099800@mrstenishacollins.com
SUMMARY:Strong Marriage LIVE Saturdays
DESCRIPTION:It’s time to make your relationship a priority! Join Coaches Chris & Tenisha Collins for a half-hour of #realtalk every Saturday at 1pm PST. You’ll learn how to increase intimacy and communicate effectively\, all from a faith-based perspective. You really can have the marriage of your dreams. You just have to build it! \nGo to my YouTube channel to watch: https://bit.ly/CollinsTube
URL:https://mrstenishacollins.com/event/strong-marriage-live-saturdays/
LOCATION:YouTube Channel
ATTACH;FMTTYPE=image/png:https://mrstenishacollins.com/wp-content/uploads/2024/05/Podcast-Headshot-Tenisha.png
END:VEVENT
BEGIN:VEVENT
DTSTART;TZID=UTC:20260314T130000
DTEND;TZID=UTC:20260314T133000
DTSTAMP:20260423T231823
CREATED:20240503T010054Z
LAST-MODIFIED:20260221T011920Z
UID:537-1773493200-1773495000@mrstenishacollins.com
SUMMARY:#StrongMarriageLIVE
DESCRIPTION:🌟 Join us for a transformative LIVE broadcast! 🌟 \nUnlock the secrets to a lasting\, healthy marriage in our exclusive LIVE discussion. Discover practical tips\, insightful strategies\, and expert advice on nurturing a relationship that stands the test of time. Whether you’re newlyweds or seasoned partners\, this broadcast is your gateway to a deeper connection and enduring love. Mark your calendar and join us LIVE as we dive into the art of building a resilient and fulfilling marriage together. Don’t miss out on this invaluable opportunity to strengthen your bond and create a lifetime of happiness! See you there! 🎥💖 \n#HealthyMarriage #LiveDiscussion #RelationshipGoals \nDon’t miss our LIVE broadcasts every Saturday at 1pm Pacific/4pm Eastern on my YouTube channel:  https://bit.ly/CollinsTube \nJoin us for a candid discussion EVERY SATURDAY on how to spice up your sex life and deepen your connection with your spouse. \n 
URL:https://mrstenishacollins.com/event/strongmarriagelive/
LOCATION:YouTube Channel
ATTACH;FMTTYPE=image/png:https://mrstenishacollins.com/wp-content/uploads/2024/05/Black-Green-Graffiti-Live-Stream-Game-Facebook-Post.png
END:VEVENT
BEGIN:VEVENT
DTSTART;VALUE=DATE:20251220
DTEND;VALUE=DATE:20260110
DTSTAMP:20260423T231823
CREATED:20251029T004548Z
LAST-MODIFIED:20251029T004548Z
UID:700-1766188800-1768003199@mrstenishacollins.com
SUMMARY:Out of Office\, Fully in Love!
DESCRIPTION:🎄 \n💕 I’m officially on vacation for the holidays — soaking up some much-needed rest\, laughter\, and quality time with my favorite person. 🥰 \nThe Strong Marriage Live podcast will return January 10\, 2026\, refreshed and ready to pour into your relationship with brand-new\, heart-stirring conversations. 💬💞 \nUntil then\, take this time to practice what we’ve been talking about — communicate\, connect\, and create those sacred sparks that keep your love burning bright. 🔥 \nSee you in the new year\, stronger and more in love than ever! ❤️ \n#MarriageGoals #StrongMarriageLive #SacredSparks #MarriageCoach #LoveInAction
URL:https://mrstenishacollins.com/event/out-of-office-fully-in-love/
ATTACH;FMTTYPE=image/png:https://mrstenishacollins.com/wp-content/uploads/2025/10/s-1.png
END:VEVENT
BEGIN:VEVENT
DTSTART;TZID=UTC:20251029T080000
DTEND;TZID=UTC:20251029T233000
DTSTAMP:20260423T231823
CREATED:20251029T001302Z
LAST-MODIFIED:20251029T003733Z
UID:687-1761724800-1761780600@mrstenishacollins.com
SUMMARY:Introducing Sacred Sparks: The Marriage Movement You’ll Want In On!
DESCRIPTION:💞 Strong Marriage\, New Flame: Introducing Sacred Sparks\nIf you’ve been part of my Strong Marriage Support Group on Facebook\, you already know how much I believe in helping couples build marriages that last. That community has been such a blessing — full of laughter\, learning\, and love — but now it’s time to go deeper. \nWelcome to Sacred Sparks\, the next chapter of our journey together!\nThis private membership community is designed to help couples reconnect\, grow spiritually\, and keep the flame alive — all in a faith-filled\, judgment-free space where you can be real and find support. \nInside Sacred Sparks\, you’ll enjoy:\n💬 Live coaching and group sessions to strengthen your communication and connection.\n🎯 Couples challenges and reflection prompts to spark conversation and intimacy.\n🙏 Prayer and accountability circles for encouragement and spiritual growth.\n🎉 Virtual date nights and exclusive resources that make marriage fun again! \nThis isn’t just another group — it’s a movement of couples who believe marriage is holy ground. We’re creating space for God to breathe fresh life into our relationships and remind us that strong love still exists — and it’s worth fighting for. \nBecause you’re part of my newsletter family\, I have a special gift for you:\n💝 Join Sacred Sparks today and receive a lifetime membership absolutely FREE! \nThis offer is available today (October 29\, 2025) only\, and after that\, membership will be just $1 per month until Christmas. \nIt’s my way of saying thank you for walking this journey with me — for believing that marriage can be both holy and happy. \nYour marriage is worth the investment.\nYour love story is still being written.\nAnd your best days together are ahead. \n✨ Join Sacred Sparks today — and let’s keep the fire burning! \nhttps://bit.ly/3UGhB1R \n\n 
URL:https://mrstenishacollins.com/event/introducing-sacred-sparks-the-marriage-movement-youll-want-in-on/
ATTACH;FMTTYPE=image/png:https://mrstenishacollins.com/wp-content/uploads/2025/10/Black-Yellow-Doodle-Playful-Make-Profit-Tips-YouTube-Thumbnail.png
END:VEVENT
END:VCALENDAR