BEGIN:VCALENDAR
VERSION:2.0
PRODID:-//MrsTenishaCollins.com - ECPv6.15.20//NONSGML v1.0//EN
CALSCALE:GREGORIAN
METHOD:PUBLISH
X-WR-CALNAME:MrsTenishaCollins.com
X-ORIGINAL-URL:https://mrstenishacollins.com
X-WR-CALDESC:Events for MrsTenishaCollins.com
REFRESH-INTERVAL;VALUE=DURATION:PT1H
X-Robots-Tag:noindex
X-PUBLISHED-TTL:PT1H
BEGIN:VTIMEZONE
TZID:UTC
BEGIN:STANDARD
TZOFFSETFROM:+0000
TZOFFSETTO:+0000
TZNAME:UTC
DTSTART:20250101T000000
END:STANDARD
END:VTIMEZONE
BEGIN:VEVENT
DTSTART;TZID=UTC:20260411T120000
DTEND;TZID=UTC:20260411T130000
DTSTAMP:20260425T102659
CREATED:20240311T054221Z
LAST-MODIFIED:20260314T011012Z
UID:545-1775908800-1775912400@mrstenishacollins.com
SUMMARY:Strong Marriage LIVE on Saturdays
DESCRIPTION:Don’t miss out on our LIVE broadcast every Saturday at 1pm Pacific/4pm Eastern on YouTube\, where we discuss ways to enhance intimacy and experience more fulfilling intimacy in your relationship. \nJoin us for a candid discussion EVERY SATURDAY on how to spice up your sex life and deepen your connection with your spouse. \n 
URL:https://mrstenishacollins.com/event/strong-marriage-live-on-saturdays/
LOCATION:YouTube Channel
ATTACH;FMTTYPE=image/png:https://mrstenishacollins.com/wp-content/uploads/2024/05/Black-Green-Graffiti-Live-Stream-Game-Facebook-Post.png
END:VEVENT
END:VCALENDAR