BEGIN:VCALENDAR
VERSION:2.0
PRODID:-//MrsTenishaCollins.com - ECPv6.15.20//NONSGML v1.0//EN
CALSCALE:GREGORIAN
METHOD:PUBLISH
X-ORIGINAL-URL:https://mrstenishacollins.com
X-WR-CALDESC:Events for MrsTenishaCollins.com
REFRESH-INTERVAL;VALUE=DURATION:PT1H
X-Robots-Tag:noindex
X-PUBLISHED-TTL:PT1H
BEGIN:VTIMEZONE
TZID:UTC
BEGIN:STANDARD
TZOFFSETFROM:+0000
TZOFFSETTO:+0000
TZNAME:UTC
DTSTART:20250101T000000
END:STANDARD
END:VTIMEZONE
BEGIN:VEVENT
DTSTART;TZID=UTC:20260328T130000
DTEND;TZID=UTC:20260328T133000
DTSTAMP:20260423T190330
CREATED:20240504T222830Z
LAST-MODIFIED:20260221T012145Z
UID:562-1774702800-1774704600@mrstenishacollins.com
SUMMARY:Strong Marriage LIVE
DESCRIPTION:🌟 Join us for a transformative live broadcast! 🌟  \nUnlock the secrets to a lasting\, healthy marriage in our exclusive live discussion. Discover practical tips\, insightful strategies\, and expert advice on nurturing a relationship that stands the test of time. Whether you’re newlyweds or seasoned partners\, this broadcast is your gateway to a deeper connection and enduring love. Mark your calendar and join us live as we delve into the art of building a resilient and fulfilling marriage together. Don’t miss out on this invaluable opportunity to strengthen your bond and create a lifetime of happiness! See you there! 🎥💖 \nhttps://bit.ly/CollinsTube \n#HealthyMarriage #LiveDiscussion #RelationshipGoals  \nYou really can have the marriage of your dreams. You just have to build it!
URL:https://mrstenishacollins.com/event/strong-marriage-live/
LOCATION:YouTube Channel
ATTACH;FMTTYPE=image/png:https://mrstenishacollins.com/wp-content/uploads/2024/05/Black-Green-Graffiti-Live-Stream-Game-Facebook-Post.png
END:VEVENT
END:VCALENDAR